BEGIN:VCALENDAR
VERSION:2.0
PRODID:-//Isle of Man 4 Wheel Drive Club Ltd - ECPv6.15.11//NONSGML v1.0//EN
CALSCALE:GREGORIAN
METHOD:PUBLISH
X-ORIGINAL-URL:https://iom4x4.decimusdesign.com
X-WR-CALDESC:Events for Isle of Man 4 Wheel Drive Club Ltd
REFRESH-INTERVAL;VALUE=DURATION:PT1H
X-Robots-Tag:noindex
X-PUBLISHED-TTL:PT1H
BEGIN:VTIMEZONE
TZID:Europe/London
BEGIN:DAYLIGHT
TZOFFSETFROM:+0000
TZOFFSETTO:+0100
TZNAME:BST
DTSTART:20240331T010000
END:DAYLIGHT
BEGIN:STANDARD
TZOFFSETFROM:+0100
TZOFFSETTO:+0000
TZNAME:GMT
DTSTART:20241027T010000
END:STANDARD
BEGIN:DAYLIGHT
TZOFFSETFROM:+0000
TZOFFSETTO:+0100
TZNAME:BST
DTSTART:20250330T010000
END:DAYLIGHT
BEGIN:STANDARD
TZOFFSETFROM:+0100
TZOFFSETTO:+0000
TZNAME:GMT
DTSTART:20251026T010000
END:STANDARD
BEGIN:DAYLIGHT
TZOFFSETFROM:+0000
TZOFFSETTO:+0100
TZNAME:BST
DTSTART:20260329T010000
END:DAYLIGHT
BEGIN:STANDARD
TZOFFSETFROM:+0100
TZOFFSETTO:+0000
TZNAME:GMT
DTSTART:20261025T010000
END:STANDARD
END:VTIMEZONE
BEGIN:VEVENT
DTSTART;TZID=Europe/London:20250910T203000
DTEND;TZID=Europe/London:20250910T220000
DTSTAMP:20260422T144301
CREATED:20250816T074913Z
LAST-MODIFIED:20250826T113331Z
UID:844-1757536200-1757541600@iom4x4.decimusdesign.com
SUMMARY:Committee Meeting
DESCRIPTION:Committee meeting at The Mitre in Kirk Michael
URL:https://iom4x4.decimusdesign.com/event/committee-meeting/
LOCATION:The Mitre in Kirk Michael\, Main Road\, Kirk Michael\, IM6 1AJ
CATEGORIES:Committee Meeting
ATTACH;FMTTYPE=image/png:https://iom4x4.decimusdesign.com/wp-content/uploads/2025/08/IOM4x4logo-transparent.png
END:VEVENT
END:VCALENDAR